BEGIN:VCALENDAR
VERSION:2.0
PRODID:-//MCE - Motorcykelentusiasterna - ECPv6.15.12.1//NONSGML v1.0//EN
CALSCALE:GREGORIAN
METHOD:PUBLISH
X-ORIGINAL-URL:https://mce.se
X-WR-CALDESC:Händelser för MCE - Motorcykelentusiasterna
REFRESH-INTERVAL;VALUE=DURATION:PT1H
X-Robots-Tag:noindex
X-PUBLISHED-TTL:PT1H
BEGIN:VTIMEZONE
TZID:Europe/Stockholm
BEGIN:DAYLIGHT
TZOFFSETFROM:+0100
TZOFFSETTO:+0200
TZNAME:CEST
DTSTART:20240331T010000
END:DAYLIGHT
BEGIN:STANDARD
TZOFFSETFROM:+0200
TZOFFSETTO:+0100
TZNAME:CET
DTSTART:20241027T010000
END:STANDARD
BEGIN:DAYLIGHT
TZOFFSETFROM:+0100
TZOFFSETTO:+0200
TZNAME:CEST
DTSTART:20250330T010000
END:DAYLIGHT
BEGIN:STANDARD
TZOFFSETFROM:+0200
TZOFFSETTO:+0100
TZNAME:CET
DTSTART:20251026T010000
END:STANDARD
BEGIN:DAYLIGHT
TZOFFSETFROM:+0100
TZOFFSETTO:+0200
TZNAME:CEST
DTSTART:20260329T010000
END:DAYLIGHT
BEGIN:STANDARD
TZOFFSETFROM:+0200
TZOFFSETTO:+0100
TZNAME:CET
DTSTART:20261025T010000
END:STANDARD
END:VTIMEZONE
BEGIN:VEVENT
DTSTART;TZID=Europe/Stockholm:20250825T173000
DTEND;TZID=Europe/Stockholm:20250825T210000
DTSTAMP:20260422T142733
CREATED:20250830T165829Z
LAST-MODIFIED:20250830T165831Z
UID:10000749-1756143000-1756155600@mce.se
SUMMARY:MCE´s augustigrilltur
DESCRIPTION:Måndag den 25 augusti samlas vi i Kåken (Snutenvägen 1 i Järfälla) från kl 17:30-21:00 \n\n\n\nSedan väntar en timmes MC körning mot ett hemligt mål där vi sedan grillar burgare och korv och njuter av härliga salladsblad i olika kulörer. Lite ketchup\, senap och amerikansk dressing (utan tariff) samt lite förstörd lök i strösselform dukas också upp på buffébordet. Köttalternativ finns för dom som vill ha. Dricka finns (Zero varianter är bannlysta då de tar kål på bakterierna i tjocktarmen) och vi ska se om vi lyckas få med mormors hemstampade ekologiska svart vinbärssaft. Klubben bjuder medlemmar på mat och dricka. Icke medlemmar välkomna men betalar ett allt för ett pris om 60 kr inkluderar mervärdeskatt. \n\n\n\nKl 18:00 avgår kortegen från Mälarvägen. \n\n\n\nToalett finns vid grillplatsen. Även badmöjlighet för den som gillar dålig bottensikt. \n\n\n\nVid asdåligt väder är onsdagen den 27 augusti reservdag. Samma tider som ovan. Dagbyte meddelas via medlemsmejl. \n\n\n\nTurledare: Jerker Berg \n\n\n\nEldfängd bespisningspersonal: Ulf & Karin
URL:https://mce.se/evenemang/mces-augustigrilltur/
LOCATION:Kåken\, Snutenvägen\, Järfälla\, 17752\, Sverige
CATEGORIES:Övriga turer
ATTACH;FMTTYPE=image/png:https://mce.se/wp-content/uploads/2025/08/ChatGPT-Image-8-aug.-2025-08_56_08.png
END:VEVENT
END:VCALENDAR