BEGIN:VCALENDAR
VERSION:2.0
PRODID:-//MCE - Motorcykelentusiasterna - ECPv6.15.12.1//NONSGML v1.0//EN
CALSCALE:GREGORIAN
METHOD:PUBLISH
X-ORIGINAL-URL:https://mce.se
X-WR-CALDESC:Händelser för MCE - Motorcykelentusiasterna
REFRESH-INTERVAL;VALUE=DURATION:PT1H
X-Robots-Tag:noindex
X-PUBLISHED-TTL:PT1H
BEGIN:VTIMEZONE
TZID:Europe/Stockholm
BEGIN:DAYLIGHT
TZOFFSETFROM:+0100
TZOFFSETTO:+0200
TZNAME:CEST
DTSTART:20240331T010000
END:DAYLIGHT
BEGIN:STANDARD
TZOFFSETFROM:+0200
TZOFFSETTO:+0100
TZNAME:CET
DTSTART:20241027T010000
END:STANDARD
BEGIN:DAYLIGHT
TZOFFSETFROM:+0100
TZOFFSETTO:+0200
TZNAME:CEST
DTSTART:20250330T010000
END:DAYLIGHT
BEGIN:STANDARD
TZOFFSETFROM:+0200
TZOFFSETTO:+0100
TZNAME:CET
DTSTART:20251026T010000
END:STANDARD
BEGIN:DAYLIGHT
TZOFFSETFROM:+0100
TZOFFSETTO:+0200
TZNAME:CEST
DTSTART:20260329T010000
END:DAYLIGHT
BEGIN:STANDARD
TZOFFSETFROM:+0200
TZOFFSETTO:+0100
TZNAME:CET
DTSTART:20261025T010000
END:STANDARD
END:VTIMEZONE
BEGIN:VEVENT
DTSTART;TZID=Europe/Stockholm:20250901T000000
DTEND;TZID=Europe/Stockholm:20250906T235959
DTSTAMP:20260422T082000
CREATED:20250217T122738Z
LAST-MODIFIED:20250217T123157Z
UID:10000726-1756684800-1757203199@mce.se
SUMMARY:Zündapp/Honda 125 event i Portugal
DESCRIPTION:Häng med och kör hoj i Portugal 1-6 September 2025. \n\n\n\nDetta är en fyra kördagars tur i södra Portugal i Algarve området på kurviga asfalts bergsvägar. Ta med din egen Zündapp (frakt cirka 20.000kr tor) eller hyr en Honda 125 på 15 hästkrafter för 3000:- för alla fyra dagar. \n\n\n\nKostnader/person: \n\nFlyg tor\, ca 2000kr\nHyra MC 3000kr\nHotell 5 nätter\, ca 5000kr\nMat och bensin tillkommer. \n\nOm du vill åka med så maila mig på mce(@)cmail.nu.  \nBehöver namn\, telefon\, e-post samt en deposition om 8000kr för att säkra hotell och hyra av hoj. \nFlyg bokar du själv. Sträckan är Stockholm till Faro \n/Magnus
URL:https://mce.se/evenemang/zundapp-honda-125-event-i-portugal/
ATTACH;FMTTYPE=image/jpeg:https://mce.se/wp-content/uploads/2025/02/P9050128-scaled.jpg
END:VEVENT
BEGIN:VEVENT
DTSTART;TZID=Europe/Stockholm:20250901T183000
DTEND;TZID=Europe/Stockholm:20250901T200000
DTSTAMP:20260422T082000
CREATED:20241213T104009Z
LAST-MODIFIED:20241213T104010Z
UID:10000719-1756751400-1756756800@mce.se
SUMMARY:MCE månadsmöte september
DESCRIPTION:Vi går igenom vad som hänt och vad som är på gång. Diskuterar verksamheten och väljer in nya medlemmar. \n\n\n\nAlla våra medlemmar\, och ”klubbnyfikna kanske medlemmar” är välkomna.Varmt välkomna på månadsmöten som startar kl. 19:00. Från 18:30 bjuds det på fika. \n\n\n\nKram / Styrelsen MCE
URL:https://mce.se/evenemang/mce-manadsmote-september-2/
CATEGORIES:Månadsmöte
ATTACH;FMTTYPE=image/jpeg:https://mce.se/wp-content/uploads/2024/01/MCE.jpg
END:VEVENT
END:VCALENDAR