BEGIN:VCALENDAR
VERSION:2.0
PRODID:-//MCE - Motorcykelentusiasterna - ECPv6.15.12.1//NONSGML v1.0//EN
CALSCALE:GREGORIAN
METHOD:PUBLISH
X-ORIGINAL-URL:https://mce.se
X-WR-CALDESC:Händelser för MCE - Motorcykelentusiasterna
REFRESH-INTERVAL;VALUE=DURATION:PT1H
X-Robots-Tag:noindex
X-PUBLISHED-TTL:PT1H
BEGIN:VTIMEZONE
TZID:Europe/Stockholm
BEGIN:DAYLIGHT
TZOFFSETFROM:+0100
TZOFFSETTO:+0200
TZNAME:CEST
DTSTART:20240331T010000
END:DAYLIGHT
BEGIN:STANDARD
TZOFFSETFROM:+0200
TZOFFSETTO:+0100
TZNAME:CET
DTSTART:20241027T010000
END:STANDARD
BEGIN:DAYLIGHT
TZOFFSETFROM:+0100
TZOFFSETTO:+0200
TZNAME:CEST
DTSTART:20250330T010000
END:DAYLIGHT
BEGIN:STANDARD
TZOFFSETFROM:+0200
TZOFFSETTO:+0100
TZNAME:CET
DTSTART:20251026T010000
END:STANDARD
BEGIN:DAYLIGHT
TZOFFSETFROM:+0100
TZOFFSETTO:+0200
TZNAME:CEST
DTSTART:20260329T010000
END:DAYLIGHT
BEGIN:STANDARD
TZOFFSETFROM:+0200
TZOFFSETTO:+0100
TZNAME:CET
DTSTART:20261025T010000
END:STANDARD
END:VTIMEZONE
BEGIN:VEVENT
DTSTART;TZID=Europe/Stockholm:20251004T180000
DTEND;TZID=Europe/Stockholm:20251004T235900
DTSTAMP:20260422T015247
CREATED:20250922T102020Z
LAST-MODIFIED:20250922T102259Z
UID:10000750-1759600800-1759622340@mce.se
SUMMARY:MCE´s oktoberfest
DESCRIPTION:Vi bjuder in alla medlemmar\, kompisar\, nyfikna MC-entusiaster och festglada själar till en kväll där kolvarna dunkar i takt med musiken och där skratt\, god mat och dryck flödar som en nyservad Harley på autobahn. Vad väntar dig? \n\n\n\nMat (Bratwurst\, sauerkrauten und kartofelsallad) som får dig at glömma vad kalorier är.Det finns givetvis alternativ för den som inte gillar klassisk oktobermeny. \n\n\n\n\nDryck som får ögon att glittra och historier att bli bättre. \n\n\n\nMusik som får både hojar och höfter att svänga. \n\n\n\nStämning som kan få en oljefläck att börja dansa. Det finns alternativ för den som inte gillar klassisk oktobermeny \n  \n\n\n\n\n \n\n\n\nKom som du är – med hoj\, utan hoj\, med hjälm\, utan hjälm – bara du har ett leende och är redo för en episk fest med världens vänligaste MC-klubb. \n\n\n\nFöranmälan till info@mce.se senast 2 oktober. \n\n\n\nKostnad för mat: Ungdomar upp till och med 25 år 50 kr och övriga 100 kr\, betalas med swish vid entrén. Dryck finns att köpa i baren. \n\n\n\nGlöm inte att även anmäla dina kompisar. Ju fler desto galnare. Egna upptåg på festen påbjudes. Ta gärna med eget musikinstrument och sångröst\, vi gör plats för uppträdande. \n\n\n\nVi delar ut två priser: Ett för bästa uppträdande och ett för bästa klädsel. \n 
URL:https://mce.se/evenemang/mces-oktoberfest/
LOCATION:Kåken\, Snutenvägen\, Järfälla\, 17752\, Sverige
CATEGORIES:Fest
ATTACH;FMTTYPE=image/jpeg:https://mce.se/wp-content/uploads/2025/09/Oktoberfest.jpg
END:VEVENT
END:VCALENDAR