BEGIN:VCALENDAR
VERSION:2.0
PRODID:-//MCE - Motorcykelentusiasterna - ECPv6.15.12.1//NONSGML v1.0//EN
CALSCALE:GREGORIAN
METHOD:PUBLISH
X-WR-CALNAME:MCE - Motorcykelentusiasterna
X-ORIGINAL-URL:https://mce.se
X-WR-CALDESC:Händelser för MCE - Motorcykelentusiasterna
REFRESH-INTERVAL;VALUE=DURATION:PT1H
X-Robots-Tag:noindex
X-PUBLISHED-TTL:PT1H
BEGIN:VTIMEZONE
TZID:Europe/Stockholm
BEGIN:DAYLIGHT
TZOFFSETFROM:+0100
TZOFFSETTO:+0200
TZNAME:CEST
DTSTART:20220327T010000
END:DAYLIGHT
BEGIN:STANDARD
TZOFFSETFROM:+0200
TZOFFSETTO:+0100
TZNAME:CET
DTSTART:20221030T010000
END:STANDARD
BEGIN:DAYLIGHT
TZOFFSETFROM:+0100
TZOFFSETTO:+0200
TZNAME:CEST
DTSTART:20230326T010000
END:DAYLIGHT
BEGIN:STANDARD
TZOFFSETFROM:+0200
TZOFFSETTO:+0100
TZNAME:CET
DTSTART:20231029T010000
END:STANDARD
BEGIN:DAYLIGHT
TZOFFSETFROM:+0100
TZOFFSETTO:+0200
TZNAME:CEST
DTSTART:20240331T010000
END:DAYLIGHT
BEGIN:STANDARD
TZOFFSETFROM:+0200
TZOFFSETTO:+0100
TZNAME:CET
DTSTART:20241027T010000
END:STANDARD
END:VTIMEZONE
BEGIN:VEVENT
DTSTART;TZID=Europe/Stockholm:20230317T173000
DTEND;TZID=Europe/Stockholm:20230317T223000
DTSTAMP:20260423T204549
CREATED:20230225T171847Z
LAST-MODIFIED:20230307T121405Z
UID:10000013-1679074200-1679092200@mce.se
SUMMARY:MCE 5-kamp Bowling
DESCRIPTION:Inbjudan till vad som förhoppningsvis blir samma succé som förra året med 25 medlemmar på plats för öl\, mat\, samkväm och lite bowling. Denna gång ingår bowlingen som gren i årets femkamp! \n\n\n\nMCE Bowling på Bowling Bull i Jakobsberg \n\n\n\nVi har bokat 7 banor och vi har plats för 25 personer som spelar bowling. \n\n\n\nPriset är 400 kr per medlem (icke medlem betalar 475) och anmälan krävs på denna länk där man också beställer mat!https://forms.gle/pP97QJtxKYJ9WmcS6 \n\n\n\n2 rätters\, 1 timme bowling\, huvudrätt\, förrätt eller efterrätt. Val av mat sker vid anmälan ovan. \n\n\n\n17.30 (från) AW i baren18.30 Samling och välja skor19.00 Bowling20.00 Middag \n\n\n\nBegränsat antal\, först till kvarn gäller  \n\n\n\nVälkomna\,Mattias och styrelsen
URL:https://mce.se/evenemang/mce-5-kamp/
LOCATION:Bowling Bull i Jakobsberg\, Hammarvägen 61\, Järfälla\, 17735\, Sverige
CATEGORIES:5-kamp
ATTACH;FMTTYPE=image/jpeg:https://mce.se/wp-content/uploads/2023/02/332384265_869759420775519_9010928789523741096_n.jpg
END:VEVENT
BEGIN:VEVENT
DTSTART;TZID=Europe/Stockholm:20230307T183000
DTEND;TZID=Europe/Stockholm:20230307T200000
DTSTAMP:20260423T204549
CREATED:20230225T165717Z
LAST-MODIFIED:20230226T093107Z
UID:10000009-1678213800-1678219200@mce.se
SUMMARY:MCE månadsmöte mars -23
DESCRIPTION:Vi går igenom vad som hänt och vad som är på gång. Diskuterar verksamheten och väljer in nya medlemmar. \n\n\n\nAlla våra medlemmar\, och ”klubbnyfikna kanske medlemmar” är välkomna.Varmt välkomna på månadsmöten som startar kl. 19:00. Från 18:30 bjuds det på fika. \n\n\n\nKram / Styrelsen MCE
URL:https://mce.se/evenemang/mce-manadsmote-mars-23/
CATEGORIES:Månadsmöte
ATTACH;FMTTYPE=image/jpeg:https://mce.se/wp-content/uploads/2021/07/Manadsmote-MCE-2021.jpg
END:VEVENT
END:VCALENDAR