BEGIN:VCALENDAR
VERSION:2.0
PRODID:-//MCE - Motorcykelentusiasterna - ECPv6.15.12.1//NONSGML v1.0//EN
CALSCALE:GREGORIAN
METHOD:PUBLISH
X-ORIGINAL-URL:https://mce.se
X-WR-CALDESC:Händelser för MCE - Motorcykelentusiasterna
REFRESH-INTERVAL;VALUE=DURATION:PT1H
X-Robots-Tag:noindex
X-PUBLISHED-TTL:PT1H
BEGIN:VTIMEZONE
TZID:Europe/Stockholm
BEGIN:DAYLIGHT
TZOFFSETFROM:+0100
TZOFFSETTO:+0200
TZNAME:CEST
DTSTART:20240331T010000
END:DAYLIGHT
BEGIN:STANDARD
TZOFFSETFROM:+0200
TZOFFSETTO:+0100
TZNAME:CET
DTSTART:20241027T010000
END:STANDARD
BEGIN:DAYLIGHT
TZOFFSETFROM:+0100
TZOFFSETTO:+0200
TZNAME:CEST
DTSTART:20250330T010000
END:DAYLIGHT
BEGIN:STANDARD
TZOFFSETFROM:+0200
TZOFFSETTO:+0100
TZNAME:CET
DTSTART:20251026T010000
END:STANDARD
BEGIN:DAYLIGHT
TZOFFSETFROM:+0100
TZOFFSETTO:+0200
TZNAME:CEST
DTSTART:20260329T010000
END:DAYLIGHT
BEGIN:STANDARD
TZOFFSETFROM:+0200
TZOFFSETTO:+0100
TZNAME:CET
DTSTART:20261025T010000
END:STANDARD
END:VTIMEZONE
BEGIN:VEVENT
DTSTART;TZID=Europe/Stockholm:20251006T183000
DTEND;TZID=Europe/Stockholm:20251006T200000
DTSTAMP:20260422T095901
CREATED:20241213T104044Z
LAST-MODIFIED:20241213T104045Z
UID:10000720-1759775400-1759780800@mce.se
SUMMARY:MCE månadsmöte oktober
DESCRIPTION:Vi går igenom vad som hänt och vad som är på gång. Diskuterar verksamheten och väljer in nya medlemmar. \n\n\n\nAlla våra medlemmar\, och ”klubbnyfikna kanske medlemmar” är välkomna.Varmt välkomna på månadsmöten som startar kl. 19:00. Från 18:30 bjuds det på fika. \n\n\n\nKram / Styrelsen MCE
URL:https://mce.se/evenemang/mce-manadsmote-oktober/
CATEGORIES:Månadsmöte
ATTACH;FMTTYPE=image/jpeg:https://mce.se/wp-content/uploads/2024/01/MCE.jpg
END:VEVENT
BEGIN:VEVENT
DTSTART;TZID=Europe/Stockholm:20251008T180000
DTEND;TZID=Europe/Stockholm:20251008T200000
DTSTAMP:20260422T095901
CREATED:20250922T104022Z
LAST-MODIFIED:20250922T111300Z
UID:10000777-1759946400-1759953600@mce.se
SUMMARY:MCE kör dartkvällar
DESCRIPTION:Kl. 18.00 slår vi upp portarna i ”Kåken” och samlas för lite snack\, skratt och spela lite Dart i våra nya uppfräschade lokaler!!! \n\n\n\nFramförallt håller igång med ”offseason”\, med en dag varannan vecka\, där vi kan träffas under trevliga former o ”tjöta” med varandra \n\n\n\nI baren finns lite Pub/Dart mat t.ex. Pyttipanna\, Croque Monsieur eller olika sorters Paj om man känner sig sugen\, även något gott att dricka finns tillgängligt\, förstås också alkoholfritt!!! \n\n\n\nVi kommer att ha gott om extra set med pilar för de som inte har några!!! \n\n\n\nMCE-Dart kommer att ha öppet kl. 18.00 – varje onsdag på ojämna veckor. \n\n\n\nAlla är välkomna!!! \n 
URL:https://mce.se/evenemang/mce-kor-dartkvallar-3/2025-10-08/
LOCATION:Kåken\, Snutenvägen\, Järfälla\, 17752\, Sverige
CATEGORIES:Dartkvällar,Övriga evenemang
ATTACH;FMTTYPE=image/jpeg:https://mce.se/wp-content/uploads/2025/09/MCE-dart.jpg
END:VEVENT
END:VCALENDAR