BEGIN:VCALENDAR
VERSION:2.0
PRODID:-//MCE - Motorcykelentusiasterna - ECPv6.15.12.1//NONSGML v1.0//EN
CALSCALE:GREGORIAN
METHOD:PUBLISH
X-WR-CALNAME:MCE - Motorcykelentusiasterna
X-ORIGINAL-URL:https://mce.se
X-WR-CALDESC:Händelser för MCE - Motorcykelentusiasterna
REFRESH-INTERVAL;VALUE=DURATION:PT1H
X-Robots-Tag:noindex
X-PUBLISHED-TTL:PT1H
BEGIN:VTIMEZONE
TZID:Europe/Stockholm
BEGIN:DAYLIGHT
TZOFFSETFROM:+0100
TZOFFSETTO:+0200
TZNAME:CEST
DTSTART:20240331T010000
END:DAYLIGHT
BEGIN:STANDARD
TZOFFSETFROM:+0200
TZOFFSETTO:+0100
TZNAME:CET
DTSTART:20241027T010000
END:STANDARD
BEGIN:DAYLIGHT
TZOFFSETFROM:+0100
TZOFFSETTO:+0200
TZNAME:CEST
DTSTART:20250330T010000
END:DAYLIGHT
BEGIN:STANDARD
TZOFFSETFROM:+0200
TZOFFSETTO:+0100
TZNAME:CET
DTSTART:20251026T010000
END:STANDARD
BEGIN:DAYLIGHT
TZOFFSETFROM:+0100
TZOFFSETTO:+0200
TZNAME:CEST
DTSTART:20260329T010000
END:DAYLIGHT
BEGIN:STANDARD
TZOFFSETFROM:+0200
TZOFFSETTO:+0100
TZNAME:CET
DTSTART:20261025T010000
END:STANDARD
END:VTIMEZONE
BEGIN:VEVENT
DTSTART;TZID=Europe/Stockholm:20251225T120000
DTEND;TZID=Europe/Stockholm:20251225T160000
DTSTAMP:20260422T131231
CREATED:20251223T070519Z
LAST-MODIFIED:20251224T193039Z
UID:10000865-1766664000-1766678400@mce.se
SUMMARY:MCE X-MAS day challange 2025
DESCRIPTION:MCE Christmas Day Challenge\, \nVår traditionella juldagslunch! Skönt att klämma en burgare med shake som omväxling till sillen och julskinkan! \nObservera att detta är en utmaning Till alla klubbar med självaktning! \nDen här tidigare så lugna och introverta tillställning har förvandlats till en formidabel familjefest. Med hjälp av nätet\, spridits ryktet och nu kommer det allt fler klubbar… \nNOTERA TIDERNA!!\nMCEare: Samling från 12.00 på McDonald’s RISSNE med gemensam clutch out 12:15. \nMC Donalds\, Sveavägen 71\, https://www.mcdonalds.com/se/sv-se/location/stockholm/sveav-gen-71/sveav-gen-71/2.html \nVÄLKOMNA och God Jul och Gott Nytt År!!
URL:https://mce.se/evenemang/mce-x-mas-day-challange-2025/
LOCATION:McDonald’s Sveavägen (Sveavägen 71\, Stockholm)
ATTACH;FMTTYPE=image/jpeg:https://mce.se/wp-content/uploads/2025/12/20139_image_602454233_1346993844105980_4081642169314340117_n.jpg
END:VEVENT
END:VCALENDAR