BEGIN:VCALENDAR
VERSION:2.0
PRODID:-//MCE - Motorcykelentusiasterna - ECPv6.15.12.1//NONSGML v1.0//EN
CALSCALE:GREGORIAN
METHOD:PUBLISH
X-ORIGINAL-URL:https://mce.se
X-WR-CALDESC:Händelser för MCE - Motorcykelentusiasterna
REFRESH-INTERVAL;VALUE=DURATION:PT1H
X-Robots-Tag:noindex
X-PUBLISHED-TTL:PT1H
BEGIN:VTIMEZONE
TZID:Europe/Stockholm
BEGIN:DAYLIGHT
TZOFFSETFROM:+0100
TZOFFSETTO:+0200
TZNAME:CEST
DTSTART:20250330T010000
END:DAYLIGHT
BEGIN:STANDARD
TZOFFSETFROM:+0200
TZOFFSETTO:+0100
TZNAME:CET
DTSTART:20251026T010000
END:STANDARD
BEGIN:DAYLIGHT
TZOFFSETFROM:+0100
TZOFFSETTO:+0200
TZNAME:CEST
DTSTART:20260329T010000
END:DAYLIGHT
BEGIN:STANDARD
TZOFFSETFROM:+0200
TZOFFSETTO:+0100
TZNAME:CET
DTSTART:20261025T010000
END:STANDARD
BEGIN:DAYLIGHT
TZOFFSETFROM:+0100
TZOFFSETTO:+0200
TZNAME:CEST
DTSTART:20270328T010000
END:DAYLIGHT
BEGIN:STANDARD
TZOFFSETFROM:+0200
TZOFFSETTO:+0100
TZNAME:CET
DTSTART:20271031T010000
END:STANDARD
END:VTIMEZONE
BEGIN:VEVENT
DTSTART;TZID=Europe/Stockholm:20260202T180000
DTEND;TZID=Europe/Stockholm:20260202T210000
DTSTAMP:20260422T230254
CREATED:20260109T193039Z
LAST-MODIFIED:20260202T193018Z
UID:10000872-1770055200-1770066000@mce.se
SUMMARY:MCE Månadsmöte februari
DESCRIPTION:Vi går igenom vad som hänt och vad som är på gång. Diskuterar verksamheten och väljer in nya medlemmar.\nAlla våra medlemmar\, och ”klubbnyfikna kanske medlemmar” är välkomna. \nVarmt välkomna på månadsmöten som startar kl. 19:00. Från 18:30 bjuds det på fika.\nKram / Styrelsen MCE
URL:https://mce.se/evenemang/mce-manadsmote-februari-2/
LOCATION:Snutenvägen 11\, 17761 Järfälla\, Sweden
ATTACH;FMTTYPE=image/jpeg:https://mce.se/wp-content/uploads/2026/01/20168_image_613552509_1360458276092870_7146697748105502637_n.jpg
END:VEVENT
BEGIN:VEVENT
DTSTART;TZID=Europe/Stockholm:20260204T180000
DTEND;TZID=Europe/Stockholm:20260204T210000
DTSTAMP:20260422T230254
CREATED:20260131T193531Z
LAST-MODIFIED:20260204T193023Z
UID:10000884-1770228000-1770238800@mce.se
SUMMARY:Dartkväll i kåken
DESCRIPTION:Välkommen till en härlig dart kväll i kåken. Kom dit oavsett om du ska spela eller inte.\nDet är kul att bara hänga och snacka lite också.\nBaren är öppen för den som vill.
URL:https://mce.se/evenemang/dartkvall-i-kaken-4/
LOCATION:Snutenvägen 11\, 17761 Järfälla\, Sweden
ATTACH;FMTTYPE=image/jpeg:https://mce.se/wp-content/uploads/2026/01/20242_image_625012970_1379412257530805_6772055718428701076_n.jpg
END:VEVENT
BEGIN:VEVENT
DTSTART;TZID=Europe/Stockholm:20260207T124500
DTEND;TZID=Europe/Stockholm:20260207T124500
DTSTAMP:20260422T230254
CREATED:20260116T193312Z
LAST-MODIFIED:20260206T193049Z
UID:10000876-1770468300-1770468300@mce.se
SUMMARY:Isracing
DESCRIPTION:Då var det dags för favorit i repris.\nRörberg Motorstadion Gävle\n17 januari kl 1245.  \nEfter matchen har vi bokat bord på Trivs restaurang kl 1800.\nVore kanon om ni som ska äta anmäler till mig vilken mat ni vill ha.\nkarin.wallberg@gmail.com  \nLänk till meny: https://www.trivs.nu/?page_id=11 \nVi tar oss till Gävle Motorstadion för att se den fjärde omgången av Supercupen i isracing.\nADRESS: Hedesundavägen 51 VALBO (Riksväg 56)\nFRÅN SNUTENVÄGEN: E4:an upp till Gävle. Avfart 199. Därefter Riksväg 56\, skyltat\nVÄSTERÅS tills man tar av till vänster på 56:an\, vitskyltat: ”Motorstadion”. Arenan ligger\nfullt synlig från vägen.\nEller: E18 till Enköping. Riksväg 70. Väg 254 mot Heby fram till Riksväg 72 mot Sala.\nRiksväg 56\, skyltat GÄVLE\, upp till arenan.\nINTRÄDE: 150 kr. Betalas kontant eller med swish på plats. Under 16 år gratis.\nMÖTET: Förarpresentation kl. 12:45\nTejpen går upp för första heatet kl. 13:00\nLÄKTARPLATS: Längs med start- och målrakan löper en sittplatsläktare som dom allra\nflesta använder att stå på\, men ta med något att sitta på för banprepareringarna (plogning\noch sopning) efter heat 4\, 8\, 12\, 16 och 20 kan vara rätt långrandiga. På andra långsidan\nfinns några små ståplatsläktare som brukar vara populära för dess närhet till klubbstugan.\nKarin & Uffe See less \nKarin & Uffe
URL:https://mce.se/evenemang/isracing/
LOCATION:Snutenvägen 11\, 17761 Järfälla\, Sweden
ATTACH;FMTTYPE=image/jpeg:https://mce.se/wp-content/uploads/2026/01/20193_image_616311042_1366116658860365_7801920048723895971_n.jpg
END:VEVENT
END:VCALENDAR