BEGIN:VCALENDAR
VERSION:2.0
PRODID:-//MCE - Motorcykelentusiasterna - ECPv6.15.12.1//NONSGML v1.0//EN
CALSCALE:GREGORIAN
METHOD:PUBLISH
X-WR-CALNAME:MCE - Motorcykelentusiasterna
X-ORIGINAL-URL:https://mce.se
X-WR-CALDESC:Händelser för MCE - Motorcykelentusiasterna
REFRESH-INTERVAL;VALUE=DURATION:PT1H
X-Robots-Tag:noindex
X-PUBLISHED-TTL:PT1H
BEGIN:VTIMEZONE
TZID:Europe/Stockholm
BEGIN:DAYLIGHT
TZOFFSETFROM:+0100
TZOFFSETTO:+0200
TZNAME:CEST
DTSTART:20250330T010000
END:DAYLIGHT
BEGIN:STANDARD
TZOFFSETFROM:+0200
TZOFFSETTO:+0100
TZNAME:CET
DTSTART:20251026T010000
END:STANDARD
BEGIN:DAYLIGHT
TZOFFSETFROM:+0100
TZOFFSETTO:+0200
TZNAME:CEST
DTSTART:20260329T010000
END:DAYLIGHT
BEGIN:STANDARD
TZOFFSETFROM:+0200
TZOFFSETTO:+0100
TZNAME:CET
DTSTART:20261025T010000
END:STANDARD
BEGIN:DAYLIGHT
TZOFFSETFROM:+0100
TZOFFSETTO:+0200
TZNAME:CEST
DTSTART:20270328T010000
END:DAYLIGHT
BEGIN:STANDARD
TZOFFSETFROM:+0200
TZOFFSETTO:+0100
TZNAME:CET
DTSTART:20271031T010000
END:STANDARD
END:VTIMEZONE
BEGIN:VEVENT
DTSTART;TZID=Europe/Stockholm:20260413T180000
DTEND;TZID=Europe/Stockholm:20260413T210000
DTSTAMP:20260421T071909
CREATED:20260109T193036Z
LAST-MODIFIED:20260412T193023Z
UID:10000870-1776103200-1776114000@mce.se
SUMMARY:MCE Månadsmöte april
DESCRIPTION:Vi går igenom vad som hänt och vad som är på gång. Diskuterar verksamheten och väljer in nya medlemmar.\nAlla våra medlemmar\, och ”klubbnyfikna kanske medlemmar” är välkomna. \nVi får möjligheten att ta del av Lotta Kronåker-Boströms långa erfaren som instruktör och\nutbildningsledare inom SMC. Lotta har kört motorcykel sedan 20-årsåldern\, tävlar på\nbana och är aktiv inom SVEMO:s styrelse.Hon kommer att dela med sig av sin kunskap\,\nerfarenhet och passion för MC-körning! \nLotta Kronåker Boström SMC: instruktör/kursledare/tävlingsledare/ racetjej/\nmekaniker/styrelseledamot i Svemo o s v.  \nVarmt välkomna på månadsmöten som startar kl. 19:00. Från 18:30 bjuds det på fika.\nKram / Styrelsen MCE
URL:https://mce.se/evenemang/mce-manadsmote-april-3/
LOCATION:Snutenvägen 11\, 17761 Järfälla\, Sweden
ATTACH;FMTTYPE=image/jpeg:https://mce.se/wp-content/uploads/2026/01/20164_image_660077012_1429988305806533_5792019772621229163_n.jpg
END:VEVENT
BEGIN:VEVENT
DTSTART;TZID=Europe/Stockholm:20260413T180000
DTEND;TZID=Europe/Stockholm:20260413T190000
DTSTAMP:20260421T071909
CREATED:20260227T193019Z
LAST-MODIFIED:20260412T193023Z
UID:10000889-1776103200-1776106800@mce.se
SUMMARY:Öppet hus. Nu börjar det onekligen närma sig vår och snart sommar:
DESCRIPTION:Säsongens första öppet hus. Våren kommer med närmare med bestämda steg och vi står inför en säsong där vi kommer igång att leva igen.\nSå kom in på en gofika\, lätt och enkel matbit och bara ha kul en stund
URL:https://mce.se/evenemang/oppet-hus-nu-borjar-det-onekligen-narma-sig-var-och-snart-sommar/
LOCATION:Snutenvägen 11\, 17761 Järfälla\, Sweden
ATTACH;FMTTYPE=image/jpeg:https://mce.se/wp-content/uploads/2026/02/20295_image_644335916_1403203691818328_8903665949644649404_n.jpg
END:VEVENT
END:VCALENDAR