BEGIN:VCALENDAR
VERSION:2.0
PRODID:-//MCE - Motorcykelentusiasterna - ECPv6.15.12.1//NONSGML v1.0//EN
CALSCALE:GREGORIAN
METHOD:PUBLISH
X-WR-CALNAME:MCE - Motorcykelentusiasterna
X-ORIGINAL-URL:https://mce.se
X-WR-CALDESC:Händelser för MCE - Motorcykelentusiasterna
REFRESH-INTERVAL;VALUE=DURATION:PT1H
X-Robots-Tag:noindex
X-PUBLISHED-TTL:PT1H
BEGIN:VTIMEZONE
TZID:Europe/Stockholm
BEGIN:DAYLIGHT
TZOFFSETFROM:+0100
TZOFFSETTO:+0200
TZNAME:CEST
DTSTART:20250330T010000
END:DAYLIGHT
BEGIN:STANDARD
TZOFFSETFROM:+0200
TZOFFSETTO:+0100
TZNAME:CET
DTSTART:20251026T010000
END:STANDARD
BEGIN:DAYLIGHT
TZOFFSETFROM:+0100
TZOFFSETTO:+0200
TZNAME:CEST
DTSTART:20260329T010000
END:DAYLIGHT
BEGIN:STANDARD
TZOFFSETFROM:+0200
TZOFFSETTO:+0100
TZNAME:CET
DTSTART:20261025T010000
END:STANDARD
BEGIN:DAYLIGHT
TZOFFSETFROM:+0100
TZOFFSETTO:+0200
TZNAME:CEST
DTSTART:20270328T010000
END:DAYLIGHT
BEGIN:STANDARD
TZOFFSETFROM:+0200
TZOFFSETTO:+0100
TZNAME:CET
DTSTART:20271031T010000
END:STANDARD
END:VTIMEZONE
BEGIN:VEVENT
DTSTART;TZID=Europe/Stockholm:20260523T100000
DTEND;TZID=Europe/Stockholm:20260524T200000
DTSTAMP:20260421T025645
CREATED:20260131T193027Z
LAST-MODIFIED:20260420T193135Z
UID:10000878-1779530400-1779652800@mce.se
SUMMARY:Tvådagars söder om Mälaren (asfalt)
DESCRIPTION:23-24 maj kör vi en resa med övernattning som är väldigt lik förra årets resa.\nEn resa som alla kan vara med på\, vi kommer köra 100% asfalt eller iaf 99% asfalt.\nRutten är inte lagd men just nu siktar vi på att hålla oss söder om mälaren.\nSå Stockholm\, Norrköping\, Linköping\, Motala\, Askersund\, Örebro\, Arboga\, osv…\nFörra året körde vi 30 mil på lördagen och 30mil på söndagen så det blir troligtvis något liknande iår. Övernattningen kostade 300kr/person förra året och vi sov i stugor på en camping. Ska nu börja leta boende men försöker hålla mig på max 500kr/person. \nAlla MCEare som vill är välkomna att åka med . Ni får gärna mejla ett intresse redan nu. Eftersom vi inte behöver boka några stugor än så är det mest ett intresse som vi vill veta och ingen bindande anmälan.
URL:https://mce.se/evenemang/resa-med-overnattning-2/
LOCATION:Snutenvägen 11\, 17761 Järfälla\, Sweden
ATTACH;FMTTYPE=image/jpeg:https://mce.se/wp-content/uploads/2026/01/20223_image_626373494_1379435017528529_5766207546501330703_n.jpg
END:VEVENT
END:VCALENDAR