BEGIN:VCALENDAR
VERSION:2.0
PRODID:-//MCE - Motorcykelentusiasterna - ECPv6.15.12.1//NONSGML v1.0//EN
CALSCALE:GREGORIAN
METHOD:PUBLISH
X-WR-CALNAME:MCE - Motorcykelentusiasterna
X-ORIGINAL-URL:https://mce.se
X-WR-CALDESC:Händelser för MCE - Motorcykelentusiasterna
REFRESH-INTERVAL;VALUE=DURATION:PT1H
X-Robots-Tag:noindex
X-PUBLISHED-TTL:PT1H
BEGIN:VTIMEZONE
TZID:Europe/Stockholm
BEGIN:DAYLIGHT
TZOFFSETFROM:+0100
TZOFFSETTO:+0200
TZNAME:CEST
DTSTART:20240331T010000
END:DAYLIGHT
BEGIN:STANDARD
TZOFFSETFROM:+0200
TZOFFSETTO:+0100
TZNAME:CET
DTSTART:20241027T010000
END:STANDARD
BEGIN:DAYLIGHT
TZOFFSETFROM:+0100
TZOFFSETTO:+0200
TZNAME:CEST
DTSTART:20250330T010000
END:DAYLIGHT
BEGIN:STANDARD
TZOFFSETFROM:+0200
TZOFFSETTO:+0100
TZNAME:CET
DTSTART:20251026T010000
END:STANDARD
BEGIN:DAYLIGHT
TZOFFSETFROM:+0100
TZOFFSETTO:+0200
TZNAME:CEST
DTSTART:20260329T010000
END:DAYLIGHT
BEGIN:STANDARD
TZOFFSETFROM:+0200
TZOFFSETTO:+0100
TZNAME:CET
DTSTART:20261025T010000
END:STANDARD
BEGIN:DAYLIGHT
TZOFFSETFROM:+0100
TZOFFSETTO:+0200
TZNAME:CEST
DTSTART:20270328T010000
END:DAYLIGHT
BEGIN:STANDARD
TZOFFSETFROM:+0200
TZOFFSETTO:+0100
TZNAME:CET
DTSTART:20271031T010000
END:STANDARD
END:VTIMEZONE
BEGIN:VEVENT
DTSTART;TZID=Europe/Stockholm:20260130T180000
DTEND;TZID=Europe/Stockholm:20260130T180000
DTSTAMP:20260420T172742
CREATED:20260109T193040Z
LAST-MODIFIED:20260130T193018Z
UID:10000873-1769796000-1769796000@mce.se
SUMMARY:Pub kväll
DESCRIPTION:Dags för årets första Pub kväll.\nVi avslutar Januari 2026 med en episk 3-kamp!!! Dartkonässören🎯\, Flippermästaren👾 och Pingiskungen/Drottningen🏓!!! Den totala MCE-Mästaren koras under kvällen!!! Mat o dryck och härliga MCE:are är den bästa kombinationen😄!!!\nMer om kvällen kommer under veckan…..\nHåll koll på evenemang o reservera fredagens kväll!!! \nVälkommen. \nPlease follow and like us:
URL:https://mce.se/evenemang/pub-kvall/
LOCATION:Snutenvägen 11\, 17761 Järfälla\, Sweden
ATTACH;FMTTYPE=image/jpeg:https://mce.se/wp-content/uploads/2026/01/20170_image_613121482_1360561089415922_1406906958801423158_n.jpg
END:VEVENT
BEGIN:VEVENT
DTSTART;TZID=Europe/Stockholm:20260128T180000
DTEND;TZID=Europe/Stockholm:20260128T210000
DTSTAMP:20260420T172742
CREATED:20260109T193041Z
LAST-MODIFIED:20260128T193105Z
UID:10000874-1769623200-1769634000@mce.se
SUMMARY:Dartkväll i kåken
DESCRIPTION:Välkommen till en härlig dart kväll i kåken. Kom dit oavsett om du ska spela eller inte.\nDet är kul att bara hänga och snacka lite också.\nBaren är öppen för den som vill. \nPlease follow and like us:
URL:https://mce.se/evenemang/dartkvall-i-kaken/
LOCATION:Snutenvägen 11\, 17761 Järfälla\, Sweden
ATTACH;FMTTYPE=image/jpeg:https://mce.se/wp-content/uploads/2026/01/20172_image_612998420_1360469792758385_1595731788468500778_n-1.jpg
END:VEVENT
BEGIN:VEVENT
DTSTART;TZID=Europe/Stockholm:20260116T180000
DTEND;TZID=Europe/Stockholm:20260116T180000
DTSTAMP:20260420T172742
CREATED:20260113T193059Z
LAST-MODIFIED:20260116T193312Z
UID:10000875-1768586400-1768586400@mce.se
SUMMARY:Pulka race med after pulka
DESCRIPTION:Nu på fredag så är det dags för pulka race.\nVi träffas i kl 18 på parkeringen vid Brukets skidbacke (Görväln).\nVågar DU delta i detta race\, eller vill du komma som åskådare och se utgången för de andra? I vilket fall så är du hjärtligt välkommen.\nMan får använda vad man vill som åkdon\, så länge den inte har egen kraft att tillföra. 🙂\nSkyddsutrustning kan kanske vara att föredra beroende på hur mycket hornen växer ut. \nNär racet är klart så åker vi till klubben och har en välförtjänt after pulka. Där har vi möjlighet till rekreation\, dryck samt samtala om kvällens rabalder. 🙂 Puben har öppet så länge som vi alla har något att samtala om\, eller bara umgås. \nVarmt välkomna.\nStyrelsen MCE \nPlease follow and like us:
URL:https://mce.se/evenemang/pulka-race-med-after-pulka/
LOCATION:Snutenvägen 11\, 17761 Järfälla\, Sweden
ATTACH;FMTTYPE=image/jpeg:https://mce.se/wp-content/uploads/2026/01/20186_image_615284534_1363156102489754_292883505647087568_n.jpg
END:VEVENT
BEGIN:VEVENT
DTSTART;TZID=Europe/Stockholm:20260112T183000
DTEND;TZID=Europe/Stockholm:20260112T210000
DTSTAMP:20260420T172742
CREATED:20260105T193017Z
LAST-MODIFIED:20260112T193020Z
UID:10000867-1768242600-1768251600@mce.se
SUMMARY:MCE Månadsmöte januari
DESCRIPTION:Nytt år\, och första steget mot en ny härlig mc-säsong.\nVi har nu årets första månadsmöte. \nAlla våra medlemmar\, och ”klubbnyfikna kanske medlemmar” är välkomna.\nVarmt välkomna på månadsmöten som startar kl. 19:00. Från 18:30 bjuds det på fika.\nKram / Styrelsen MCE \nPlease follow and like us:
URL:https://mce.se/evenemang/mce-manadsmote-januari/
LOCATION:Snutenvägen 11\, 17761 Järfälla\, Sweden
ATTACH;FMTTYPE=image/jpeg:https://mce.se/wp-content/uploads/2026/01/20152_image_612416877_1357473233058041_5775067210834202884_n.jpg
END:VEVENT
BEGIN:VEVENT
DTSTART;TZID=Europe/Stockholm:20251217T180000
DTEND;TZID=Europe/Stockholm:20251217T200000
DTSTAMP:20260420T172742
CREATED:20251102T192727Z
LAST-MODIFIED:20251204T193054Z
UID:10000853-1765994400-1766001600@mce.se
SUMMARY:MCE kör dartkvällar
DESCRIPTION:Kl. 18.00 slår vi upp portarna i ”Kåken” och samlas för lite snack\, skratt och spela lite Dart i våra nya uppfräschade lokaler😄!!! \nFramförallt håller igång med ”offseason”\, med en dag varannan vecka\, där vi kan träffas under trevliga former o ”tjöta” med varandra😂  \nI baren finns lite Pub/Dart mat t.ex. Pyttipanna\, Croque Monsieur eller olika sorters Paj om man känner sig sugen\, även något gott att dricka finns tillgängligt🤪\, förstås också alkoholfritt!!! \nVi kommer att ha gott om extra set med pilar för de som inte har några!!! \nMCE-Dart kommer att ha öppet kl. 18.00 – varje onsdag på ojämna veckor. \nAlla är välkomna😄!!! \nPlease follow and like us:
URL:https://mce.se/evenemang/mce-kor-dartkvallar/
LOCATION:Snutenvägen 11\, 17761 Järfälla\, Sweden
ATTACH;FMTTYPE=image/jpeg:https://mce.se/wp-content/uploads/2025/11/20008_image_550160143_1268502351955130_8083259793010043525_n.jpg
END:VEVENT
BEGIN:VEVENT
DTSTART;TZID=Europe/Stockholm:20251203T180000
DTEND;TZID=Europe/Stockholm:20251203T200000
DTSTAMP:20260420T172742
CREATED:20251116T193019Z
LAST-MODIFIED:20251203T193132Z
UID:10000859-1764784800-1764792000@mce.se
SUMMARY:MCE kör dartkvällar
DESCRIPTION:Kl. 18.00 slår vi upp portarna i ”Kåken” och samlas för lite snack\, skratt och spela lite Dart i våra nya uppfräschade lokaler😄!!! \nFramförallt håller igång med ”offseason”\, med en dag varannan vecka\, där vi kan träffas under trevliga former o ”tjöta” med varandra😂  \nI baren finns lite Pub/Dart mat t.ex. Pyttipanna\, Croque Monsieur eller olika sorters Paj om man känner sig sugen\, även något gott att dricka finns tillgängligt🤪\, förstås också alkoholfritt!!! \nVi kommer att ha gott om extra set med pilar för de som inte har några!!! \nMCE-Dart kommer att ha öppet kl. 18.00 – varje onsdag på ojämna veckor. \nAlla är välkomna😄!!! \nPlease follow and like us:
URL:https://mce.se/evenemang/mce-kor-dartkvallar-2/
LOCATION:Snutenvägen 11\, 17761 Järfälla\, Sweden
ATTACH;FMTTYPE=image/jpeg:https://mce.se/wp-content/uploads/2025/11/20008_image_550160143_1268502351955130_8083259793010043525_n.jpg
END:VEVENT
BEGIN:VEVENT
DTSTART;TZID=Europe/Stockholm:20251201T183000
DTEND;TZID=Europe/Stockholm:20251201T210000
DTSTAMP:20260420T172742
CREATED:20251116T193018Z
LAST-MODIFIED:20251201T193051Z
UID:10000858-1764613800-1764622800@mce.se
SUMMARY:MCE månadsmöte december
DESCRIPTION:Vi går igenom vad som hänt och vad som är på gång. Diskuterar verksamheten och väljer in nya medlemmar. \nAlla våra medlemmar\, och ”klubbnyfikna kanske medlemmar” är välkomna.\nVarmt välkomna på månadsmöten som startar kl. 19:00. Från 18:30 bjuds det på fika. \nKram / Styrelsen MCE \nPlease follow and like us:
URL:https://mce.se/evenemang/mce-manadsmote-december/
LOCATION:Snutenvägen 11\, 17761 Järfälla\, Sweden
ATTACH;FMTTYPE=image/jpeg:https://mce.se/wp-content/uploads/2025/11/20033_image_491927071_1140188424786524_3610288173928388652_n.jpg
END:VEVENT
BEGIN:VEVENT
DTSTART;TZID=Europe/Stockholm:20251128T180000
DTEND;TZID=Europe/Stockholm:20251128T180000
DTSTAMP:20260420T172742
CREATED:20251125T193033Z
LAST-MODIFIED:20251128T193035Z
UID:10000863-1764352800-1764352800@mce.se
SUMMARY:Pubkväll på kåken med MotoGP Känsla
DESCRIPTION:Vi lyser upp mörkret på fredag den 28 november med att bjuda in på till pubkväll på Kåken kl 18.00.\nDet kommer att finnas extra god mat att köpa i baren och lägg där till att puben är öppen hela kvällen.\nVi planerar att bjuda på olika delar från MotoGP tävlingar på storskärmen i salen. Blir perfekt att studera tekniken inför kommande säsong.\nVill du bjuda in någon/några motorintresserade vänner\, bara ta med dem.\nVarmt varmt välkomna\nÖnskar festkommittén Lasse och Carina O \nPlease follow and like us:
URL:https://mce.se/evenemang/pubkvall-pa-kaken-med-motogp-kansla/
LOCATION:Snutenvägen 11\, 17761 Järfälla\, Sweden
ATTACH;FMTTYPE=image/jpeg:https://mce.se/wp-content/uploads/2025/11/20075_image_587397189_1325467226258642_1882269873877883505_n.jpg
END:VEVENT
BEGIN:VEVENT
DTSTART;TZID=Europe/Stockholm:20251119T180000
DTEND;TZID=Europe/Stockholm:20251119T200000
DTSTAMP:20260420T172742
CREATED:20251116T193201Z
LAST-MODIFIED:20251119T193017Z
UID:10000861-1763575200-1763582400@mce.se
SUMMARY:MCE kör dartkvällar
DESCRIPTION:Kl. 18.00 slår vi upp portarna i ”Kåken” och samlas för lite snack\, skratt och spela lite Dart i våra nya uppfräschade lokaler😄!!! \nFramförallt håller igång med ”offseason”\, med en dag varannan vecka\, där vi kan träffas under trevliga former o ”tjöta” med varandra😂  \nI baren finns lite Pub/Dart mat t.ex. Pyttipanna\, Croque Monsieur eller olika sorters Paj om man känner sig sugen\, även något gott att dricka finns tillgängligt🤪\, förstås också alkoholfritt!!! \nVi kommer att ha gott om extra set med pilar för de som inte har några!!! \nMCE-Dart kommer att ha öppet kl. 18.00 – varje onsdag på ojämna veckor. \nAlla är välkomna😄!!! \nPlease follow and like us:
URL:https://mce.se/evenemang/mce-kor-dartkvallar-7/
LOCATION:Snutenvägen 11\, 17761 Järfälla\, Sweden
ATTACH;FMTTYPE=image/jpeg:https://mce.se/wp-content/uploads/2025/11/20008_image_550160143_1268502351955130_8083259793010043525_n.jpg
END:VEVENT
END:VCALENDAR