BEGIN:VCALENDAR
VERSION:2.0
PRODID:-//MCE - Motorcykelentusiasterna - ECPv6.15.12.1//NONSGML v1.0//EN
CALSCALE:GREGORIAN
METHOD:PUBLISH
X-WR-CALNAME:MCE - Motorcykelentusiasterna
X-ORIGINAL-URL:https://mce.se
X-WR-CALDESC:Händelser för MCE - Motorcykelentusiasterna
REFRESH-INTERVAL;VALUE=DURATION:PT1H
X-Robots-Tag:noindex
X-PUBLISHED-TTL:PT1H
BEGIN:VTIMEZONE
TZID:Europe/Stockholm
BEGIN:DAYLIGHT
TZOFFSETFROM:+0100
TZOFFSETTO:+0200
TZNAME:CEST
DTSTART:20240331T010000
END:DAYLIGHT
BEGIN:STANDARD
TZOFFSETFROM:+0200
TZOFFSETTO:+0100
TZNAME:CET
DTSTART:20241027T010000
END:STANDARD
BEGIN:DAYLIGHT
TZOFFSETFROM:+0100
TZOFFSETTO:+0200
TZNAME:CEST
DTSTART:20250330T010000
END:DAYLIGHT
BEGIN:STANDARD
TZOFFSETFROM:+0200
TZOFFSETTO:+0100
TZNAME:CET
DTSTART:20251026T010000
END:STANDARD
BEGIN:DAYLIGHT
TZOFFSETFROM:+0100
TZOFFSETTO:+0200
TZNAME:CEST
DTSTART:20260329T010000
END:DAYLIGHT
BEGIN:STANDARD
TZOFFSETFROM:+0200
TZOFFSETTO:+0100
TZNAME:CET
DTSTART:20261025T010000
END:STANDARD
END:VTIMEZONE
BEGIN:VEVENT
DTSTART;TZID=Europe/Stockholm:20251219T180000
DTEND;TZID=Europe/Stockholm:20251219T180000
DTSTAMP:20260420T165231
CREATED:20251205T193018Z
LAST-MODIFIED:20251219T193127Z
UID:10000864-1766167200-1766167200@mce.se
SUMMARY:JulPubKväll🎄 på MCE!!!
DESCRIPTION:Den 19/12-2025 är det dags!!! Alla tomtenissar🎅🧑‍🎄 på MCE bjuds in att komma till vår JulPubKväll på fredag den 19/12!!! \nSjälvklart består menyn av Julmatsbuffé förstås\, som våra nissar ute i köket kokat ihop under mycket möda o stort besvär och kylarna är välfyllda med god dryck🍻och MCE humöret är på Topp😄!!! \nPriset för Julmatsbuffé: 100:-/per person (Swish) eller med MCE-kortet = 5 pluppar🤣!!! Betalas på plats! \nEn härlig Julkväll på MCE att se fram emot\, men för att vi ska kunna beräkna den härliga buffén ber vi dig att anmäla att just du kommer😄!!! \nSå\, boka upp dig i din kalender och anmäl här att du kommer!!! \nVälkommen🎅!!! \nPlease follow and like us:
URL:https://mce.se/evenemang/julpubkvall%f0%9f%8e%84-pa-mce/
LOCATION:Snutenvägen 11\, Järfälla kommun
ATTACH;FMTTYPE=image/jpeg:https://mce.se/wp-content/uploads/2025/12/20119_image_594978398_1333464385458926_5999371785176386581_n.jpg
END:VEVENT
END:VCALENDAR